BEGIN:VCALENDAR
VERSION:2.0
PRODID:-//Mia Cake House Classes
CALSCALE:GREGORIAN
METHOD:PUBLISH
X-WR-CALNAME:Mia Cake House Classes
X-ORIGINAL-URL:https://classes.miacakehouse.com/product/crumbl-style-cookie-baking-challenge-3-26/
X-WR-CALDESC:Crumbl-Style Cookie Baking Challenge
BEGIN:VEVENT
DTSTART;TZID=America/New_York:20260307T110000
DTEND;TZID=America/New_York:20260307T130000
SUMMARY:Crumbl-Style Cookie Baking Challenge
DESCRIPTION:CRUMBL style cookie Baking Class. Come by yourself or with family or friends [lightbox id="test" width="600px" padding="20px"] [block id="ema-block"] [/lightbox]
URL:https://classes.miacakehouse.com/product/crumbl-style-cookie-baking-challenge-3-26/
LOCATION:1765 North University Drive, Plantation, FL, USA
END:VEVENT
END:VCALENDAR
