BEGIN:VCALENDAR
VERSION:2.0
PRODID:-//Mia Cake House Classes
CALSCALE:GREGORIAN
METHOD:PUBLISH
X-WR-CALNAME:Mia Cake House Classes
X-ORIGINAL-URL:https://classes.miacakehouse.com/product/squishmallows-rkt-bed-326/
X-WR-CALDESC:Squishmallows RKT Bed Cake Day Camp &#8211; Plantation
BEGIN:VEVENT
DTSTART;TZID=America/New_York:20260318T090000
DTEND;TZID=America/New_York:20260318T150000
SUMMARY:Squishmallows RKT Bed Cake Day Camp – Plantation
DESCRIPTION:Full day baking and decorating class. For Children ages 8 - 14 years old [lightbox id="test" width="600px" padding="20px"] [block id="ema-block"] [/lightbox]
URL:https://classes.miacakehouse.com/product/squishmallows-rkt-bed-326/
LOCATION:1765 North University Drive, Plantation, FL, USA
END:VEVENT
END:VCALENDAR
