BEGIN:VCALENDAR
VERSION:2.0
PRODID:-//Mia Cake House Classes
CALSCALE:GREGORIAN
METHOD:PUBLISH
X-WR-CALNAME:Mia Cake House Classes
X-ORIGINAL-URL:https://classes.miacakehouse.com/product/homeschool-sushi-making-class-2/
X-WR-CALDESC:Homeschool Sushi Making Class
BEGIN:VEVENT
DTSTART;TZID=America/New_York:20260513T100000
DTEND;TZID=America/New_York:20260513T120000
SUMMARY:Homeschool Sushi Making Class
DESCRIPTION:A weekday class designed especially for homeschooled children ages 5 - 17 years old [lightbox id="test" width="600px" padding="20px"] [block id="ema-block"] [/lightbox]
URL:https://classes.miacakehouse.com/product/homeschool-sushi-making-class-2/
LOCATION:1765 North University Drive, Plantation, FL, USA
END:VEVENT
END:VCALENDAR
